BEGIN:VCALENDAR
VERSION:2.0
PRODID:-//Tukios.com/
BEGIN:VEVENT
UID:57eb2523-fe5f-445b-b996-5a18c6352eac@www.uptonfuneralhome.com
DTSTAMP:20260421T033341Z
DTSTART:20260422
SUMMARY:Interment
DESCRIPTION:
URL:https://www.uptonfuneralhome.com/obituaries/mark-poindexter
LOCATION: 475 Tinsley Road  Celina TN 38551
GEO:36.5526544;-85.479226
END:VEVENT
END:VCALENDAR