BEGIN:VCALENDAR
VERSION:2.0
PRODID:-//Tukios.com/
BEGIN:VEVENT
UID:cbbbd8d7-3ee9-4d1c-a2ec-e8a18bba02da@www.uptonfuneralhome.com
DTSTAMP:20260421T034021Z
DTSTART:20260422T190000Z
DTEND:20260422T200000Z
SUMMARY:Funeral Service
DESCRIPTION:
URL:https://www.uptonfuneralhome.com/obituaries/mark-poindexter
LOCATION: 307 W Lake Ave  Celina TN 38551
GEO:36.549948;-85.5070164
END:VEVENT
END:VCALENDAR