BEGIN:VCALENDAR
VERSION:2.0
PRODID:-//Tukios.com/
BEGIN:VEVENT
UID:6c5b6d6b-8d4c-4251-99aa-56c3dee4d703@www.uptonfuneralhome.com
DTSTAMP:20260421T034042Z
DTSTART:20260422T140000Z
DTEND:20260422T150000Z
SUMMARY:Visitation
DESCRIPTION:
URL:https://www.uptonfuneralhome.com/obituaries/mark-poindexter
LOCATION: 307 W Lake Ave  Celina TN 38551
GEO:36.549948;-85.5070164
END:VEVENT
END:VCALENDAR